BEGIN:VCALENDAR
VERSION:2.0
PRODID:-//ChamberMaster//Event Calendar 2.0//EN
METHOD:PUBLISH
X-PUBLISHED-TTL:P3D
REFRESH-INTERVAL:P3D
CALSCALE:GREGORIAN
BEGIN:VEVENT
DTSTART:20210615T161500Z
DTEND:20210615T180000Z
X-MICROSOFT-CDO-ALLDAYEVENT:FALSE
SUMMARY:Crossroads Regional Chamber Monthly Luncheon
DESCRIPTION:This will be a networking luncheon. Attendees will have the opportunity to introduce themselves and their business. Register early\, attendance is limited!
X-ALT-DESC;FMTTYPE=text/html:This will be a networking luncheon. Attendees will have the opportunity to introduce themselves and their business. Register early\, attendance is limited!
LOCATION:Lighthouse Restaurant 7501 Constitution Avenue Cedar Lake\, IN 46303
UID:e.897.4394
SEQUENCE:3
DTSTAMP:20260425T191504Z
URL:https://members.crossroadschamber.org/events/details/crossroads-regional-chamber-monthly-luncheon-4394
END:VEVENT

END:VCALENDAR
