BEGIN:VCALENDAR
VERSION:2.0
PRODID:-//ChamberMaster//Event Calendar 2.0//EN
METHOD:PUBLISH
X-PUBLISHED-TTL:P3D
REFRESH-INTERVAL:P3D
CALSCALE:GREGORIAN
BEGIN:VEVENT
DTSTART:20210720T210000Z
DTEND:20210720T230000Z
X-MICROSOFT-CDO-ALLDAYEVENT:FALSE
SUMMARY:Crossroads Regional Chamber Poolside Mixer
DESCRIPTION:Join us poolside at Innsbrook Country Club for a fun networking mixer!  We will have light snacks along with beer\, wine\, and sunshine!
X-ALT-DESC;FMTTYPE=text/html:Join us poolside at Innsbrook Country Club for a fun networking mixer!&nbsp\; We will have light snacks along with beer\, wine\, and sunshine!
LOCATION:Innsbrook Country Club 6701 Taft Street Merrillville\, IN 46410
UID:e.897.4413
SEQUENCE:3
DTSTAMP:20260425T172557Z
URL:https://members.crossroadschamber.org/events/details/crossroads-regional-chamber-poolside-mixer-4413
END:VEVENT

END:VCALENDAR
