BEGIN:VCALENDAR
VERSION:2.0
PRODID:-//ChamberMaster//Event Calendar 2.0//EN
METHOD:PUBLISH
X-PUBLISHED-TTL:P3D
REFRESH-INTERVAL:P3D
CALSCALE:GREGORIAN
BEGIN:VEVENT
DTSTART:20260521T210000Z
DTEND:20260522T000000Z
X-MICROSOFT-CDO-ALLDAYEVENT:FALSE
SUMMARY:Crossroads Talk of the Region Business Expo
DESCRIPTION:Feature your business at the Talk of the Region Business Expo and connect with Professionals from across Northwest Indiana.  This is a great opportunity to showcase your products and services\, build brand awareness\, and create meaningful connections with potential customers and partners.
X-ALT-DESC;FMTTYPE=text/html:<span style="font-family:arial\;"><span style="font-size:22px\;">Feature your business at the Talk of the Region Business Expo and connect with Professionals from across Northwest Indiana.&nbsp\; This is a great opportunity to showcase your products and services\, build brand awareness\, and create meaningful connections with potential customers and partners.&nbsp\;&nbsp\;</span></span>
LOCATION:The Dean & Barbara White Community Center 6600 Broadway Merrillville\, IN
UID:e.897.7367
SEQUENCE:3
DTSTAMP:20260419T164024Z
URL:https://members.crossroadschamber.org/events/details/crossroads-talk-of-the-region-business-expo-7367
END:VEVENT

END:VCALENDAR
