BEGIN:VCALENDAR
VERSION:2.0
PRODID:-//ChamberMaster//Event Calendar 2.0//EN
METHOD:PUBLISH
X-PUBLISHED-TTL:P3D
REFRESH-INTERVAL:P3D
CALSCALE:GREGORIAN
BEGIN:VEVENT
DTSTART:20231219T180000Z
DTEND:20231219T190000Z
X-MICROSOFT-CDO-ALLDAYEVENT:FALSE
SUMMARY:Crumbl Cookies Merrillville Ribbon Cutting
DESCRIPTION:We are excited to invite everyone to welcome Crumbl Cookie to Merrillville. Please join us at the Ribbon Cutting @ 12:30pm\n\n \n\nWe look forward to seeing everyone and appreciate your support of our Crossroads Chamber members\, and Northwest Indiana's business Community.
X-ALT-DESC;FMTTYPE=text/html:We are excited to invite everyone to welcome Crumbl Cookie to Merrillville. Please join us at the Ribbon Cutting @ 12:30pm<br />\n&nbsp\;<br />\nWe look forward to seeing everyone and appreciate your support of our Crossroads Chamber members\, and Northwest Indiana&rsquo\;s business Community.
LOCATION:1600 East 79th Ave Suite 102 Merrillville\, IN 46410
UID:e.897.5515
SEQUENCE:3
DTSTAMP:20260423T135445Z
URL:https://members.crossroadschamber.org/events/details/crumbl-cookies-merrillville-ribbon-cutting-5515
END:VEVENT

END:VCALENDAR
