BEGIN:VCALENDAR
VERSION:2.0
PRODID:-//ChamberMaster//Event Calendar 2.0//EN
METHOD:PUBLISH
X-PUBLISHED-TTL:P3D
REFRESH-INTERVAL:P3D
CALSCALE:GREGORIAN
BEGIN:VEVENT
DTSTART:20240601T190000Z
DTEND:20240602T210000Z
X-MICROSOFT-CDO-ALLDAYEVENT:FALSE
SUMMARY:D1 Training Football Camp
DESCRIPTION:D1 Training Merrillville will be hosting a 2-day football camp to a maximum of 60 athletes.\n\nOur 2-day camp will be from 2pm-4pm on June 1st & 2nd for athletes ages 12-18 years old.\n\nCamp will take place at the Dean & Barbara White Center in Merrillville (6600 Broadway).\n\nIncluded: speed & agility training\, 1 on 1's\, position specific drills\, combine testing\, awards\, and more!\n\nAll athletes will receive a D1 Training Camp t-shirt!\n\n\n\nDo not miss out on this opportunity to work with former college athletes and current coaches! Register to gain a competitive edge and increase your skill level.
X-ALT-DESC;FMTTYPE=text/html:D1 Training Merrillville will be hosting a 2-day football camp to a maximum of 60 athletes.<br />\nOur 2-day camp will be from 2pm-4pm on June 1st &amp\; 2nd for athletes ages 12-18 years old.<br />\nCamp will take place at the Dean &amp\; Barbara White Center in Merrillville (6600 Broadway).<br />\n<em>Included: speed &amp\; agility training\, 1 on 1&#39\;s\, position specific drills\, combine testing\, awards\, and more!</em><br />\n<u>All athletes will receive a D1 Training Camp t-shirt!</u><br />\n<br />\n<strong>Do not miss out on this opportunity to work with former college athletes and current coaches! Register to gain a competitive edge and increase your skill level.</strong>
LOCATION:Dean & Barbara White Center - 6600 Broadway\, Merrillville\, IN 46410 Training will take place on the football field located on the south end of the facility.
UID:e.897.6253
SEQUENCE:3
DTSTAMP:20260421T040628Z
URL:https://members.crossroadschamber.org/events/details/d1-training-football-camp-6253
END:VEVENT

END:VCALENDAR
