BEGIN:VCALENDAR
VERSION:2.0
PRODID:-//ChamberMaster//Event Calendar 2.0//EN
METHOD:PUBLISH
X-PUBLISHED-TTL:P3D
REFRESH-INTERVAL:P3D
CALSCALE:GREGORIAN
BEGIN:VEVENT
DTSTART:20251023T210000Z
DTEND:20251024T030000Z
X-MICROSOFT-CDO-ALLDAYEVENT:FALSE
SUMMARY:DINE-IN OR TO-GO TO YOUR SUPPORT
DESCRIPTION:STOMPIN' OUT BREAST CANCER \n\n\n\nFranciscan Health Breast Cancer Center partnered with Crown Point Texas Roadhouse. \n\n\n\nPlease support our organization by presenting this flyer physically or digitally to the Crown Point location and Texas Roadhouse with donate 10% of your food purchase to the Breast Care Center.
X-ALT-DESC;FMTTYPE=text/html:<span style="font-size:18px\;"><strong>STOMPIN&#39\; OUT BREAST CANCER&nbsp\;</strong><br />\n<br />\nFranciscan Health Breast Cancer Center partnered with Crown Point Texas Roadhouse.&nbsp\;<br />\n<br />\nPlease support our organization by presenting this flyer physically or digitally to the Crown Point location and Texas Roadhouse with donate 10% of your food purchase to the Breast Care Center.</span>
LOCATION:701 E. 109th Ave Crown Point\, IN 46307
UID:e.897.7211
SEQUENCE:3
DTSTAMP:20260419T233221Z
URL:https://members.crossroadschamber.org/events/details/dine-in-or-to-go-to-your-support-7211
END:VEVENT

END:VCALENDAR
