BEGIN:VCALENDAR
VERSION:2.0
PRODID:-//ChamberMaster//Event Calendar 2.0//EN
METHOD:PUBLISH
X-PUBLISHED-TTL:P3D
REFRESH-INTERVAL:P3D
CALSCALE:GREGORIAN
BEGIN:VEVENT
DTSTART:20250302T200000Z
DTEND:20250302T220000Z
X-MICROSOFT-CDO-ALLDAYEVENT:FALSE
SUMMARY:Don Quijote Restaurante Fundraiser for The Caring Place
DESCRIPTION:ABOUT THE EVENT:\n\n \n\nEnjoy a spectacular 4-course dinner and wine pairing\n\n \n\nSilent Auction and Live Auction\, including:\n\n \n\na 10 day stay in Guadamardel Segura\, Spain on the Mediterranian!\n\n \n\nAmazing wine raffle!\n\n \n\nSPECIAL VIP EXPERIENCE:\n\n \n\nLimited tickets available!\n\n \n\nCome one hour early (1:00-2:00 PM) and enjoy champagne\, specialty cocktails\, passed tapas\, and live music in a VIP room before joining the event
X-ALT-DESC;FMTTYPE=text/html:<div style="text-align:center">ABOUT THE EVENT:</div>\n\n<div style="text-align:center">&nbsp\;</div>\n\n<div style="text-align:center"><span style="font-size:13px">Enjoy a spectacular&nbsp\;</span>4-course dinner and wine&nbsp\;pairing</div>\n\n<div style="text-align:center">&nbsp\;</div>\n\n<div style="text-align:center"><span style="font-size:13px">Silent Auction and Live&nbsp\;</span>Auction\, including:</div>\n\n<div style="text-align:center">&nbsp\;</div>\n\n<div style="text-align:center"><span style="font-size:13px">a 10 day stay in Guadamar</span>del Segura\, Spain on the Mediterranian!</div>\n\n<div style="text-align:center">&nbsp\;</div>\n\n<div style="text-align:center"><span style="font-size:13px">Amazing wine raffle!</span></div>\n\n<div style="text-align:center">&nbsp\;</div>\n\n<div style="text-align:center"><span style="font-size:13px">SPECIAL VIP EXPERIENCE:</span></div>\n\n<div style="text-align:center">&nbsp\;</div>\n\n<div style="text-align:center"><span style="font-size:13px">Limited tickets&nbsp\;</span>available!</div>\n\n<div style="text-align:center">&nbsp\;</div>\n\n<div style="text-align:center"><span style="font-size:13px">Come one hour early&nbsp\;</span>(1:00-2:00 PM)&nbsp\;and enjoy champagne\,&nbsp\;specialty cocktails\, passed tapas\, and live music in a VIP room before joining the event</div>\n
LOCATION:Don Quijote 119 E Lincolnway\, Valparaiso\, IN 46383
UID:e.897.6613
SEQUENCE:3
DTSTAMP:20260420T102939Z
URL:https://members.crossroadschamber.org/events/details/don-quijote-restaurante-fundraiser-for-the-caring-place-6613
END:VEVENT

END:VCALENDAR
