BEGIN:VCALENDAR
VERSION:2.0
PRODID:-//ChamberMaster//Event Calendar 2.0//EN
METHOD:PUBLISH
X-PUBLISHED-TTL:P3D
REFRESH-INTERVAL:P3D
CALSCALE:GREGORIAN
BEGIN:VEVENT
DTSTART:20240518T120000Z
DTEND:20240518T190000Z
X-MICROSOFT-CDO-ALLDAYEVENT:FALSE
SUMMARY:Don't Stare Just Care Exceptional Ability Walk
DESCRIPTION:The "Don't Care Just Stare" Exceptional Abilities Walk\n\nOur "Don't Care Just Stare" Exceptional Abilities Walk is an event that we will hold annually to\n\nbring together individuals of all abilities. It's a day when we all come together to walk\, talk\,\n\nand share our experiences. It's a day to show that everyone\, regardless of their abilities\, can\n\ncontribute to society in a meaningful way.\n\nThe walk is going to be a 2-mile journey around the picturesque Hidden Lake Park. We are\n\ninviting everyone - whether you want to walk or even just cheer - to join us on Saturday\, May\n\n18th. The gathering starts at 7 AM. It's a great opportunity to get some exercise\, enjoy the\n\nbeautiful scenery\, and make new friends!
X-ALT-DESC;FMTTYPE=text/html:The &ldquo\;Don&rsquo\;t Care Just Stare&rdquo\; Exceptional Abilities Walk<br />\nOur &ldquo\;Don&rsquo\;t Care Just Stare&rdquo\; Exceptional Abilities Walk is an event that we will hold annually to<br />\nbring together individuals of all abilities. It&#39\;s a day when we all come together to walk\, talk\,<br />\nand share our experiences. It&#39\;s a day to show that everyone\, regardless of their abilities\, can<br />\ncontribute to society in a meaningful way.<br />\nThe walk is going to be a 2-mile journey around the picturesque Hidden Lake Park. We are<br />\ninviting everyone - whether you want to walk or even just cheer - to join us on Saturday\, May<br />\n18th. The gathering starts at 7 AM. It&#39\;s a great opportunity to get some exercise\, enjoy the<br />\nbeautiful scenery\, and make new friends!
LOCATION:Hidden Lake Park
UID:e.897.6096
SEQUENCE:3
DTSTAMP:20260421T054855Z
URL:https://members.crossroadschamber.org/events/details/don-t-stare-just-care-exceptional-ability-walk-6096
END:VEVENT

END:VCALENDAR
