BEGIN:VCALENDAR
VERSION:2.0
PRODID:-//ChamberMaster//Event Calendar 2.0//EN
METHOD:PUBLISH
X-PUBLISHED-TTL:P3D
REFRESH-INTERVAL:P3D
CALSCALE:GREGORIAN
BEGIN:VEVENT
DTSTART:20231026T204500Z
DTEND:20231026T213000Z
X-MICROSOFT-CDO-ALLDAYEVENT:FALSE
SUMMARY:Edgewater Health Ribbon Cutting
DESCRIPTION:We are excited to invite everyone to welcome Edgewater Health to Merrillville. Please join us at the Ribbon Cutting!\n\n\n\nRibbon Cutting will take place at 4pm.\n\n \n\nWe look forward to seeing everyone and appreciate your support of our Crossroads Chamber members\, and Northwest Indiana's business Community.
X-ALT-DESC;FMTTYPE=text/html:&nbsp\;We are excited to invite everyone to welcome Edgewater Health to Merrillville. Please join us at the Ribbon Cutting!<br />\n<br />\nRibbon Cutting will take place at 4pm.<br />\n&nbsp\;<br />\nWe look forward to seeing everyone and appreciate your support of our Crossroads Chamber members\, and Northwest Indiana&rsquo\;s business Community.
LOCATION:5495 Broadway Merrillville\, IN 46410
UID:e.897.5074
SEQUENCE:3
DTSTAMP:20260423T190109Z
URL:https://members.crossroadschamber.org/events/details/edgewater-health-ribbon-cutting-5074
END:VEVENT

END:VCALENDAR
