BEGIN:VCALENDAR
VERSION:2.0
PRODID:-//ChamberMaster//Event Calendar 2.0//EN
METHOD:PUBLISH
X-PUBLISHED-TTL:P3D
REFRESH-INTERVAL:P3D
CALSCALE:GREGORIAN
BEGIN:VEVENT
DTSTART:20230119T140000Z
DTEND:20230119T150000Z
X-MICROSOFT-CDO-ALLDAYEVENT:FALSE
SUMMARY:Education Committee Meeting
DESCRIPTION:Current projects include: Reality Store\, New Teacher's Luncheon\, Teacher Appreciation Week\, Professional Internships\, Career Days & the Inspiring Educator Award.\n\n\n\nIf you plan to attend this committee meeting please RSVP.\n\n\n\nQuestions regarding this committee can be directed toward Tristen Comegys\, Membership Director\, via tristen@crossroadschamber.org.
X-ALT-DESC;FMTTYPE=text/html:<br />\n<br />\nCurrent projects include: Reality Store\, New Teacher&#39\;s Luncheon\, Teacher Appreciation Week\, Professional Internships\, Career Days &amp\; the Inspiring Educator Award.<br />\n<br />\nIf you plan to attend this committee meeting please RSVP.<br />\n<br />\nQuestions regarding this committee can be directed toward Tristen Comegys\, Membership Director\, via tristen@crossroadschamber.org.&nbsp\;&nbsp\;&nbsp\;
LOCATION:
UID:e.897.4587
SEQUENCE:3
DTSTAMP:20260424T090127Z
URL:https://members.crossroadschamber.org/events/details/education-committee-meeting-4587
END:VEVENT

END:VCALENDAR
