BEGIN:VCALENDAR
VERSION:2.0
PRODID:-//ChamberMaster//Event Calendar 2.0//EN
METHOD:PUBLISH
X-PUBLISHED-TTL:P3D
REFRESH-INTERVAL:P3D
CALSCALE:GREGORIAN
BEGIN:VEVENT
DTSTART:20230928T213000Z
DTEND:20230928T230000Z
X-MICROSOFT-CDO-ALLDAYEVENT:FALSE
SUMMARY:El Timon Ribbon Cutting
DESCRIPTION:We are excited to invite everyone to welcome El Timon to Merrillville Please join us at the Ribbon Cutting/ Open house.\n\n \n\nOpen house will be held from 4:30p- 6pm\n\nRibbon Cutting will take place at 5pm.\n\n \n\nWe look forward to seeing everyone and appreciate your support of our Crossroads Chamber members\, and Northwest Indiana's business Community.
X-ALT-DESC;FMTTYPE=text/html:&nbsp\;We are excited to invite everyone to welcome El Timon to Merrillville Please join us at the Ribbon Cutting/ Open house.<br />\n&nbsp\;<br />\nOpen house will be held from 4:30p- 6pm<br />\nRibbon Cutting will take place at 5pm.<br />\n&nbsp\;<br />\nWe look forward to seeing everyone and appreciate your support of our Crossroads Chamber members\, and Northwest Indiana&rsquo\;s business Community.
LOCATION:399 E. 81st Ave. Merrillville 46410
UID:e.897.5069
SEQUENCE:3
DTSTAMP:20260423T185819Z
URL:https://members.crossroadschamber.org/events/details/el-timon-ribbon-cutting-5069
END:VEVENT

END:VCALENDAR
