BEGIN:VCALENDAR
VERSION:2.0
PRODID:-//ChamberMaster//Event Calendar 2.0//EN
METHOD:PUBLISH
X-PUBLISHED-TTL:P3D
REFRESH-INTERVAL:P3D
CALSCALE:GREGORIAN
BEGIN:VEVENT
DTSTART:20250213T143000Z
DTEND:20250213T153000Z
X-MICROSOFT-CDO-ALLDAYEVENT:FALSE
SUMMARY:EPIC Caffeine and Connections
DESCRIPTION:EPIC is a group of 20 to 30-something-year-olds who are striving to be engaging young professionals. Our monthly get-togethers focus on inspiring change through community involvement\, personal growth\, and professional development. We do this through events\, volunteer opportunities\, and simply hanging out together!
X-ALT-DESC;FMTTYPE=text/html:<span style="color: rgb(78\, 78\, 78)\; font-family: Pridi\, serif\; font-size: 20px\;">EPIC is a group of 20 to 30-something-year-olds who are striving to be engaging young professionals. Our monthly get-togethers focus on inspiring change through community involvement\, personal growth\, and professional development. We do this through events\, volunteer opportunities\, and simply hanging out together!</span>
LOCATION:The Press 9 Lincolnway Valparaiso\, IN 46383
UID:e.897.6612
SEQUENCE:3
DTSTAMP:20260420T115310Z
URL:https://members.crossroadschamber.org/events/details/epic-caffeine-and-connections-6612
END:VEVENT

END:VCALENDAR
