BEGIN:VCALENDAR
VERSION:2.0
PRODID:-//ChamberMaster//Event Calendar 2.0//EN
METHOD:PUBLISH
X-PUBLISHED-TTL:P3D
REFRESH-INTERVAL:P3D
CALSCALE:GREGORIAN
BEGIN:VEVENT
DTSTART:20230914T230000Z
DTEND:20230915T010000Z
X-MICROSOFT-CDO-ALLDAYEVENT:FALSE
SUMMARY:EPIC Event- Clean the Beach
DESCRIPTION:
X-ALT-DESC;FMTTYPE=text/html:
LOCATION:Portage Riverwalk 100 Riverwalk Dr. Portage\, IN 46368
UID:e.897.5057
SEQUENCE:3
DTSTAMP:20260423T185905Z
URL:https://members.crossroadschamber.org/events/details/epic-event-clean-the-beach-5057
END:VEVENT

END:VCALENDAR
