BEGIN:VCALENDAR
VERSION:2.0
PRODID:-//ChamberMaster//Event Calendar 2.0//EN
METHOD:PUBLISH
X-PUBLISHED-TTL:P3D
REFRESH-INTERVAL:P3D
CALSCALE:GREGORIAN
BEGIN:VEVENT
DTSTART:20231024T220000Z
DTEND:20231024T233000Z
X-MICROSOFT-CDO-ALLDAYEVENT:FALSE
SUMMARY:EPIC- Networking Event
DESCRIPTION:NWI young professions meet Valpo Students\, Valpo students meet NWI young professionals
X-ALT-DESC;FMTTYPE=text/html:NWI young professions meet Valpo Students\, Valpo students meet NWI young professionals
LOCATION:Valparaiso University Harre Union Brown and Gold Room (second Floor)
UID:e.897.5080
SEQUENCE:3
DTSTAMP:20260423T184337Z
URL:https://members.crossroadschamber.org/events/details/epic-networking-event-5080
END:VEVENT

END:VCALENDAR
