BEGIN:VCALENDAR
VERSION:2.0
PRODID:-//ChamberMaster//Event Calendar 2.0//EN
METHOD:PUBLISH
X-PUBLISHED-TTL:P3D
REFRESH-INTERVAL:P3D
CALSCALE:GREGORIAN
BEGIN:VEVENT
DTSTART:20220914T230000Z
DTEND:20220915T003000Z
X-MICROSOFT-CDO-ALLDAYEVENT:FALSE
SUMMARY:EPIC Young Professionals
DESCRIPTION:Looking for a great opportunity to network and give back to the community?  EPIC YP is hosting their monthly get together at Phil's Friends.
X-ALT-DESC;FMTTYPE=text/html:Looking for a great opportunity to network and give back to the community?&nbsp\; EPIC YP is hosting their monthly get together at Phil&#39\;s Friends.
LOCATION:Phil's Friends Indiana Hope Center 1249 Arrowhead Court Crown Point\, IN 46307
UID:e.897.4554
SEQUENCE:3
DTSTAMP:20260424T161746Z
URL:https://members.crossroadschamber.org/events/details/epic-young-professionals-4554
END:VEVENT

END:VCALENDAR
