BEGIN:VCALENDAR
VERSION:2.0
PRODID:-//ChamberMaster//Event Calendar 2.0//EN
METHOD:PUBLISH
X-PUBLISHED-TTL:P3D
REFRESH-INTERVAL:P3D
CALSCALE:GREGORIAN
BEGIN:VEVENT
DTSTART:20240508T220000Z
DTEND:20240509T000000Z
X-MICROSOFT-CDO-ALLDAYEVENT:FALSE
SUMMARY:EPIC Young Professionals Networking and Professional Development
DESCRIPTION:EPIC Young Professionals Networking and Professional Development\n\n\n\nVolunteer and Networking Night \n\nWhile we network and mingle\, we will help assemble hygiene packs. \n\n\n\nBring a Friend!
X-ALT-DESC;FMTTYPE=text/html:EPIC Young Professionals Networking and Professional Development<br />\n<br />\nVolunteer and Networking Night&nbsp\;<br />\nWhile we network and mingle\, we will help assemble hygiene packs.&nbsp\;<br />\n<br />\nBring a Friend!&nbsp\;<br />\n&nbsp\;
LOCATION:Community Help Network 550 E Burrell Dr\, Crown Point
UID:e.897.6243
SEQUENCE:3
DTSTAMP:20260421T053938Z
URL:https://members.crossroadschamber.org/events/details/epic-young-professionals-networking-and-professional-development-6243
END:VEVENT

END:VCALENDAR
