BEGIN:VCALENDAR
VERSION:2.0
PRODID:-//ChamberMaster//Event Calendar 2.0//EN
METHOD:PUBLISH
X-PUBLISHED-TTL:P3D
REFRESH-INTERVAL:P3D
CALSCALE:GREGORIAN
BEGIN:VEVENT
DTSTART:20241023T180000Z
DTEND:20241023T190000Z
X-MICROSOFT-CDO-ALLDAYEVENT:FALSE
SUMMARY:Evergreen Luxury Apartments Ribbon Cutting
DESCRIPTION:We are excited to invite everyone to welcome Evergreen Luxury Apartments to Merrillville. Please join us at the Ribbon Cutting.\n\n \n\nRibbon Cutting will take place at 1:15pm.\n\n \n\nWe look forward to seeing everyone and appreciate your support of our Crossroads Chamber members\, and Northwest Indiana's business Community.
X-ALT-DESC;FMTTYPE=text/html:We are excited to invite everyone to welcome Evergreen Luxury Apartments to Merrillville. Please join us at the Ribbon Cutting.<br />\n&nbsp\;<br />\nRibbon Cutting will take place at 1:15pm.<br />\n&nbsp\;<br />\nWe look forward to seeing everyone and appreciate your support of our Crossroads Chamber members\, and Northwest Indiana&rsquo\;s business Community.
LOCATION:8201 Polo Club Dr\, Merrillville\, IN 46410
UID:e.897.6495
SEQUENCE:3
DTSTAMP:20260420T181549Z
URL:https://members.crossroadschamber.org/events/details/evergreen-luxury-apartments-ribbon-cutting-6495
END:VEVENT

END:VCALENDAR
