BEGIN:VCALENDAR
VERSION:2.0
PRODID:-//ChamberMaster//Event Calendar 2.0//EN
METHOD:PUBLISH
X-PUBLISHED-TTL:P3D
REFRESH-INTERVAL:P3D
CALSCALE:GREGORIAN
BEGIN:VEVENT
DTSTART:20230725T210000Z
DTEND:20230725T230000Z
X-MICROSOFT-CDO-ALLDAYEVENT:FALSE
SUMMARY:Exceptional Equestrians Unlimited INC. Ribbon Cutting
DESCRIPTION:
X-ALT-DESC;FMTTYPE=text/html:
LOCATION:5699 E 73rd Ave\, Merrillville\, IN 46410
UID:e.897.5029
SEQUENCE:3
DTSTAMP:20260423T224359Z
URL:https://members.crossroadschamber.org/events/details/exceptional-equestrians-unlimited-inc-ribbon-cutting-5029
END:VEVENT

END:VCALENDAR
