BEGIN:VCALENDAR
VERSION:2.0
PRODID:-//ChamberMaster//Event Calendar 2.0//EN
METHOD:PUBLISH
X-PUBLISHED-TTL:P3D
REFRESH-INTERVAL:P3D
CALSCALE:GREGORIAN
BEGIN:VEVENT
DTSTART:20230919T210000Z
DTEND:20230919T223000Z
X-MICROSOFT-CDO-ALLDAYEVENT:FALSE
SUMMARY:Exit Realty Solutions Ribbon Cutting
DESCRIPTION:
X-ALT-DESC;FMTTYPE=text/html:
LOCATION:Exit Realty Solutions 833 Lincoln Highway Suite 410E Schererville\, IN
UID:e.897.5066
SEQUENCE:3
DTSTAMP:20260423T184320Z
URL:https://members.crossroadschamber.org/events/details/exit-realty-solutions-ribbon-cutting-5066
END:VEVENT

END:VCALENDAR
