BEGIN:VCALENDAR
VERSION:2.0
PRODID:-//ChamberMaster//Event Calendar 2.0//EN
METHOD:PUBLISH
X-PUBLISHED-TTL:P3D
REFRESH-INTERVAL:P3D
CALSCALE:GREGORIAN
BEGIN:VEVENT
DTSTART:20250603T140000Z
DTEND:20250603T150000Z
X-MICROSOFT-CDO-ALLDAYEVENT:FALSE
SUMMARY:Expo Committee Meeting
DESCRIPTION:Business Expo Committee Meeting
X-ALT-DESC;FMTTYPE=text/html:Business Expo Committee Meeting&nbsp\;&nbsp\;&nbsp\;&nbsp\;
LOCATION:440 W 84th Dr Merrillville\, IN (219) 769-8180
UID:e.897.6475
SEQUENCE:3
DTSTAMP:20260420T050009Z
URL:https://members.crossroadschamber.org/events/details/expo-committee-meeting-06-03-2025-6475
END:VEVENT

END:VCALENDAR
