BEGIN:VCALENDAR
VERSION:2.0
PRODID:-//ChamberMaster//Event Calendar 2.0//EN
METHOD:PUBLISH
X-PUBLISHED-TTL:P3D
REFRESH-INTERVAL:P3D
CALSCALE:GREGORIAN
BEGIN:VEVENT
DTSTART:20231105T190000Z
DTEND:20231105T220000Z
X-MICROSOFT-CDO-ALLDAYEVENT:FALSE
SUMMARY:Fair Haven RCC's 6th Annual Fairy Tale Ball
DESCRIPTION:6th annual Fairy Tale Ball is the most magical event of the year! A family-friendly fundraiser where we honor survivors and highlight our child sexual abuse prevention education programs that seek to preserve the innocence of childhood through empowerment.\n\nMenu: Enjoy a family-style lunch of oven roasted chicken\, pasta primavera\, whipped potatoes\, vegetable blend (green beans/red peppers/broccoli/yellow & orange carrots)\, Salad\, Bread and butter\, Pop and coffee\, Mimosa Bar (must be 21+)\, Scoop of ice cream (vanilla) and a toppings bar!\n\nRoyal Court: The Apple Princess from Looking Glass Friends will not be late to the ball. Region Royalty will also be joining us again with the Tower and the Mermaid Princesses. Welcoming for the first time\, Make Believe Professionals with the Frog Princess and the Island Princess. We will also enjoy live\, whimsical performances from some of our royal court and local talent. \n\nEntertainment:  We are bringing back some of our favorite entertainers! Enjoy a photo memento from the mirror photo booth or a digital video from the 360' photo booth\; both presented by 219 Productions. The 360' is actually a video booth that captures 120 frames a second!  \n\nSupport: There will be several ways to contribute this year at the event. The silent auction will be displayed at the event\, but bidding will be through an online portal\, with items appealing to both kids and adults. The wine pull (21+) ensures everyone is a winner! 1 'pull' $20 or 2 'pulls' for $30\, purchased with cash or a Square reader.\n\nAdd to the Magic: The "add on" opportunities can be purchased through this portal leading up to or the day of event\, while supplies last. The 2023 crown is available for $10. The horse-drawn ride by Ever After Equines is 10 minutes and time slots will be chosen first come\, first served the day of the event. \n\nThank you for supporting our Vision is to create a caring\, nurturing community with a zero tolerance of violence
X-ALT-DESC;FMTTYPE=text/html:<span style="font-family:verdana"><span style="color:#002060"><strong><span style="font-size:11.0pt">6<sup>th</sup> annual Fairy Tale Ball is the most magical event of the year! A family-friendly fundraiser where we honor survivors and highlight our child sexual abuse prevention education programs that seek to preserve the innocence of childhood through empowerment.</span></strong></span></span><br />\n<span style="font-family:verdana"><span style="color:#002060"><strong>Menu:</strong>&nbsp\;Enjoy a family-style lunch of oven roasted chicken\, pasta primavera\, whipped potatoes\, vegetable blend (green beans/red peppers/broccoli/yellow &amp\; orange carrots)\, Salad\, Bread and butter\, Pop and coffee\, Mimosa Bar (must be 21+)\, Scoop of ice cream (vanilla) and a toppings bar!</span><br />\n<span style="color:#002060"><strong>Royal Court:</strong>&nbsp\;The Apple Princess from&nbsp\;<a href="https://www.facebook.com/lookingglassfriendsentertainment" style="box-sizing:border-box\;color:rgb(51\, 122\, 183)\;text-decoration-line:none\;">Looking Glass Friends</a>&nbsp\;will not be late to the ball.&nbsp\;<a href="http://https//www.regionroyaltyevents.com/" style="box-sizing:border-box\;color:rgb(51\, 122\, 183)\;text-decoration-line:none\;">Region Royalty</a>&nbsp\;will also be joining us again with the Tower and the Mermaid Princesses. Welcoming for the first time\,&nbsp\;<a href="https://makebelievepros.com/" style="box-sizing:border-box\;color:rgb(51\, 122\, 183)\;text-decoration-line:none\;">Make Believe Professionals</a>&nbsp\;with the Frog Princess and the Island Princess. We will also enjoy live\, whimsical performances from some of our royal court and local talent.&nbsp\;</span><br />\n<span style="color:#002060"><strong>Entertainment:</strong>&nbsp\;&nbsp\;We are bringing back some of our favorite entertainers! Enjoy a photo memento from the mirror photo booth or a digital video from the 360&#39\; photo booth\; both presented by&nbsp\;<a href="https://219-productions.com/" style="box-sizing:border-box\;color:rgb(51\, 122\, 183)\;text-decoration-line:none\;">219 Productions</a>.&nbsp\;The 360&#39\;&nbsp\;is actually a video booth that captures 120 frames a second!&nbsp\;&nbsp\;</span><br />\n<span style="color:#002060"><strong>Support:</strong>&nbsp\;There will be several ways to contribute this year at the event. The silent auction will be displayed at the event\, but bidding will be through an online portal\,&nbsp\;with items appealing to both kids and adults. The wine pull (21+) ensures everyone is a winner! 1 &#39\;pull&#39\; $20 or 2 &#39\;pulls&#39\; for $30\, purchased with cash or a Square reader.</span><br />\n<strong><span style="color:#002060">Add to the Magic:</span></strong>&nbsp\;The &quot\;add on&quot\; opportunities can be purchased through this&nbsp\;<a href="http://https//forms.donorsnap.com/form?id=609bedd1-c69c-479f-a7ca-a4db8c3955d0" style="box-sizing:border-box\;color:rgb(51\, 122\, 183)\;text-decoration-line:none\;">portal</a>&nbsp\;leading up to&nbsp\;or the day of event\, while supplies last. The 2023 crown is available for $10. The horse-drawn ride by&nbsp\;<a href="http://https//everafterequines.com/?fbclid=IwAR2EPIEZDEHitCQJusCwwGw3yBap9LT4HVn8YSg7iQnj6NjyUg2sdOFjmRc" style="box-sizing:border-box\;color:rgb(51\, 122\, 183)\;text-decoration-line:none\;">Ever After Equines</a>&nbsp\;is 10 minutes and time slots will be chosen first come\, first served the day of the event.&nbsp\;<br />\n<em>Thank you for supporting our Vision is to create a caring\, nurturing community with a zero tolerance of violence</em></span>
LOCATION:Halls of St. George 905 E Joliet St\, Schererville\, IN 46375
UID:e.897.5071
SEQUENCE:3
DTSTAMP:20260423T171711Z
URL:https://members.crossroadschamber.org/events/details/fair-haven-rcc-s-6th-annual-fairy-tale-ball-5071
END:VEVENT

END:VCALENDAR
