BEGIN:VCALENDAR
VERSION:2.0
PRODID:-//ChamberMaster//Event Calendar 2.0//EN
METHOD:PUBLISH
X-PUBLISHED-TTL:P3D
REFRESH-INTERVAL:P3D
CALSCALE:GREGORIAN
BEGIN:VEVENT
DTSTART:20250411T230000Z
DTEND:20250412T030000Z
X-MICROSOFT-CDO-ALLDAYEVENT:FALSE
SUMMARY:Fair Haven RCC's Enchanted Masquerade
DESCRIPTION:SAVE-THE-DATE\n\nApril is Sexual Assault Awareness Month and we are "leaving no stone unturned" as we provide services to survivors of sexual violence and human trafficking. We are looking forward to updating community stakeholders on our progress for the Portside Suites Project\; building 4 stabilization housing suites.\n\nMore details coming soon!
X-ALT-DESC;FMTTYPE=text/html:SAVE-THE-DATE<br />\nApril is Sexual Assault Awareness Month and we are &quot\;leaving no stone unturned&quot\; as we provide services to survivors of sexual violence and human trafficking. We are looking forward to updating community stakeholders on our progress for the Portside Suites Project\; building 4 stabilization housing suites.<br />\nMore details coming soon!
LOCATION:The Design Barn 312 N Madison St\, Hebron\, IN 46341
UID:e.897.6610
SEQUENCE:3
DTSTAMP:20260420T083909Z
URL:https://members.crossroadschamber.org/events/details/fair-haven-rcc-s-enchanted-masquerade-6610
END:VEVENT

END:VCALENDAR
