BEGIN:VCALENDAR
VERSION:2.0
PRODID:-//ChamberMaster//Event Calendar 2.0//EN
METHOD:PUBLISH
X-PUBLISHED-TTL:P3D
REFRESH-INTERVAL:P3D
CALSCALE:GREGORIAN
BEGIN:VEVENT
DTSTART:20231215T143000Z
DTEND:20231215T153000Z
X-MICROSOFT-CDO-ALLDAYEVENT:FALSE
SUMMARY:Fastpace Health Grand Opening and Ribbon Cutting
DESCRIPTION:We are excited to invite everyone to welcome Fastpace Health to Winfield. Please join us at the Ribbon Cutting/Grand Opening.\n\n\n\nRibbon Cutting will take place at 8:30am.\n\n \n\nWe look forward to seeing everyone and appreciate your support of our Crossroads Chamber members\, and Northwest Indiana's business Community.
X-ALT-DESC;FMTTYPE=text/html:We are excited to invite everyone to welcome Fastpace Health to Winfield. Please join us at the Ribbon Cutting/Grand Opening.<br />\n<br />\nRibbon Cutting will take place at 8:30am.<br />\n&nbsp\;<br />\nWe look forward to seeing everyone and appreciate your support of our Crossroads Chamber members\, and Northwest Indiana&rsquo\;s business Community.
LOCATION:10736 Randolph Street Winfield\, IN 46307
UID:e.897.5514
SEQUENCE:3
DTSTAMP:20260423T134214Z
URL:https://members.crossroadschamber.org/events/details/fastpace-health-grand-opening-and-ribbon-cutting-5514
END:VEVENT

END:VCALENDAR
