BEGIN:VCALENDAR
VERSION:2.0
PRODID:-//ChamberMaster//Event Calendar 2.0//EN
METHOD:PUBLISH
X-PUBLISHED-TTL:P3D
REFRESH-INTERVAL:P3D
CALSCALE:GREGORIAN
BEGIN:VEVENT
DTSTART:20250909T150000Z
DTEND:20250909T170000Z
X-MICROSOFT-CDO-ALLDAYEVENT:FALSE
SUMMARY:FBI presents on Elder & Cyber Fraud Hosted by Edward Jones
DESCRIPTION:Incidents of financial fraud are on the rise   and are becoming increasingly harder to detect. While no one is immune\, there are steps you can take to Outsmart the scammers. Join us for this presentation and learn about the following strategies:\n\n	How to spot certain red flags that may indicate a fraudulent encounter\n	Resources you can use if you become a victim of fraud\n	Steps you can take now to help protect yourself and your loved one \n\n\n\nWe hope you and a guest will join us. Please call Jacklyn Smith at 219-961-2016 or email jacklyn.smith@edwardjones.com by 08/26/2025
X-ALT-DESC;FMTTYPE=text/html:<span style="font-size:16px\;"><span style="font-family:arial\;">Incidents of financial fraud are on the rise &mdash\; and are becoming increasingly harder to detect. While no one is immune\, there are steps you can take to Outsmart the scammers. Join us for this presentation and learn about the following strategies:</span></span>\n<ul>\n	<li><span style="font-size:16px\;"><span style="font-family:arial\;">How to spot certain red flags that may indicate a fraudulent encounter</span></span></li>\n	<li><span style="font-size:16px\;"><span style="font-family:arial\;">Resources you can use if you become a victim of fraud</span></span></li>\n	<li><span style="font-size:16px\;"><span style="font-family:arial\;"><span style="font-size:16px\;"><span style="font-family:arial\;"><span style="font-size:16px\;"><span style="font-family:arial\;">Steps you can take now to help protect yourself and your loved one</span></span>&#8203\;</span></span></span></span></li>\n</ul>\n<br />\n<span style="font-size:16px\;"><span style="font-family:arial\;">We hope you and a guest will join us. Please call Jacklyn Smith at 219-961-2016 or email jacklyn.smith@edwardjones.com by 08/26/2025</span></span>
LOCATION:The NEW St. John Community Center 10216 Cline Ave St. John 46373
UID:e.897.7139
SEQUENCE:3
DTSTAMP:20260419T233351Z
URL:https://members.crossroadschamber.org/events/details/fbi-presents-on-elder-cyber-fraud-hosted-by-edward-jones-7139
END:VEVENT

END:VCALENDAR
