BEGIN:VCALENDAR
VERSION:2.0
PRODID:-//ChamberMaster//Event Calendar 2.0//EN
METHOD:PUBLISH
X-PUBLISHED-TTL:P3D
REFRESH-INTERVAL:P3D
CALSCALE:GREGORIAN
BEGIN:VEVENT
DTSTART:20240402T210000Z
DTEND:20240402T223000Z
X-MICROSOFT-CDO-ALLDAYEVENT:FALSE
SUMMARY:FCA Flooring Ribbon Cutting/After Hours
DESCRIPTION:We are excited to invite everyone to FCA Flooring Ribbon Cutting/After Hours Event from 4p-5:30pm. \n\n \n\nRibbon Cutting will take place at 4:15pm\n\n \n\nWe look forward to seeing everyone and appreciate your support of our Crossroads Chamber members\, and Northwest Indiana's business Community.
X-ALT-DESC;FMTTYPE=text/html:&nbsp\;<br />\nWe are excited to invite everyone to FCA Flooring Ribbon Cutting/After Hours Event from 4p-5:30pm.&nbsp\;<br />\n&nbsp\;<br />\nRibbon Cutting will take place at 4:15pm<br />\n&nbsp\;<br />\nWe look forward to seeing everyone and appreciate your support of our Crossroads Chamber members\, and Northwest Indiana&rsquo\;s business Community.
LOCATION:3731 E 81st Ave Merrillville\, IN 46410
UID:e.897.6098
SEQUENCE:3
DTSTAMP:20260421T071304Z
URL:https://members.crossroadschamber.org/events/details/fca-flooring-ribbon-cutting-after-hours-6098
END:VEVENT

END:VCALENDAR
