BEGIN:VCALENDAR
VERSION:2.0
PRODID:-//ChamberMaster//Event Calendar 2.0//EN
METHOD:PUBLISH
X-PUBLISHED-TTL:P3D
REFRESH-INTERVAL:P3D
CALSCALE:GREGORIAN
BEGIN:VEVENT
DTSTART:20230221T171500Z
DTEND:20230221T190000Z
X-MICROSOFT-CDO-ALLDAYEVENT:FALSE
SUMMARY:February 2023 Monthly Membership Lunch
DESCRIPTION:Patrick Bloom\n\nCleveland-Cliffs
X-ALT-DESC;FMTTYPE=text/html:Patrick Bloom<br />\nCleveland-Cliffs&nbsp\;&nbsp\;&nbsp\;&nbsp\;&nbsp\;&nbsp\;&nbsp\;&nbsp\;&nbsp\;&nbsp\;&nbsp\;&nbsp\;
LOCATION:Hard Rock Casino Northern Indiana 5400 W 29th Avenue Gary\, IN 46406
UID:e.897.4855
SEQUENCE:3
DTSTAMP:20260424T071631Z
URL:https://members.crossroadschamber.org/events/details/february-2023-monthly-membership-lunch-4855
END:VEVENT

END:VCALENDAR
