BEGIN:VCALENDAR
VERSION:2.0
PRODID:-//ChamberMaster//Event Calendar 2.0//EN
METHOD:PUBLISH
X-PUBLISHED-TTL:P3D
REFRESH-INTERVAL:P3D
CALSCALE:GREGORIAN
BEGIN:VEVENT
DTSTART:20250218T171500Z
DTEND:20250218T190000Z
X-MICROSOFT-CDO-ALLDAYEVENT:FALSE
SUMMARY:February Monthly Membership Program
DESCRIPTION:Education Panel including:\n\n\n\nDr. Dexter Suggs Superintendent of Merrillville Community School Corporation\n\nDr. Todd Terrill Superintendent of Crown Point Community School Corporation\n\nJulie Wendorf Director of Crown Point Community Library\n\nChuck Roberts CEO of Lakeshore Public Media \n\n\n\nModerated by Lisa Daugherty President/CEO of CWI\n\n\n\n\n\nDon't forget to register for a Promotional "Get Promoted" Table $30 \n\nReceive a table with two chairs\, bring your promotional items for your business\, network with members and receive two minutes at the mic during the program.\n\n\n\nTable Sponsorship Available for $400\n\nTable Sponsor includes eight lunch reservations\, a reserved table in front of the room with company name on table and recognition at the mic.
X-ALT-DESC;FMTTYPE=text/html:<span style="font-size:22px\;"><span style="font-family:arial\;"><strong>Education Panel including:</strong><br />\n<br />\nDr. Dexter Suggs Superintendent of Merrillville Community School Corporation<br />\nDr. Todd Terrill Superintendent of Crown Point Community School Corporation<br />\nJulie Wendorf Director of Crown Point Community Library<br />\nChuck Roberts CEO of Lakeshore Public Media&nbsp\;<br />\n<br />\n<strong>Moderated by Lisa Daugherty President/CEO of CWI</strong></span></span><br />\n<br />\n<br />\n<span style="font-family: arial\;"><span style="font-size: 16px\;">Don&#39\;t forget to register for a&nbsp\;<strong>Promotional &ldquo\;Get Promoted&rdquo\; Table $30&nbsp\;</strong><br />\nReceive a table with two chairs\, bring your promotional items for your business\, network with members and receive two minutes at the mic during the program.</span></span><br />\n<br />\n<span style="font-size: 16px\;"><span style="font-family: arial\;"><strong>Table Sponsorship Available for $400</strong><br />\nTable Sponsor includes eight lunch reservations\, a reserved table in front of the room with company name on table and recognition at the mic.</span></span>
LOCATION:Avalon Manor 3550 E Lincoln Hwy\, Merrillville\, IN 46410
UID:e.897.6570
SEQUENCE:3
DTSTAMP:20260420T114752Z
URL:https://members.crossroadschamber.org/events/details/february-monthly-membership-program-6570
END:VEVENT

END:VCALENDAR
