BEGIN:VCALENDAR
VERSION:2.0
PRODID:-//ChamberMaster//Event Calendar 2.0//EN
METHOD:PUBLISH
X-PUBLISHED-TTL:P3D
REFRESH-INTERVAL:P3D
CALSCALE:GREGORIAN
BEGIN:VEVENT
DTSTART:20210216T180000Z
DTEND:20210216T190000Z
X-MICROSOFT-CDO-ALLDAYEVENT:FALSE
SUMMARY:February Monthly Program - Featuring a Marketing Panel of Experts
DESCRIPTION:"Marketing your way to Recovery- Reconnecting in the New Normal"
X-ALT-DESC;FMTTYPE=text/html:&quot\;Marketing your way to Recovery- Reconnecting in the New Normal&quot\;
LOCATION:The program will be hosted on Zoom and you must register to receive the zoom link.
UID:e.897.4382
SEQUENCE:3
DTSTAMP:20260426T020130Z
URL:https://members.crossroadschamber.org/events/details/february-monthly-program-featuring-a-marketing-panel-of-experts-4382
END:VEVENT

END:VCALENDAR
