BEGIN:VCALENDAR
VERSION:2.0
PRODID:-//ChamberMaster//Event Calendar 2.0//EN
METHOD:PUBLISH
X-PUBLISHED-TTL:P3D
REFRESH-INTERVAL:P3D
CALSCALE:GREGORIAN
BEGIN:VEVENT
DTSTART:20241017T210000Z
DTEND:20241018T000000Z
X-MICROSOFT-CDO-ALLDAYEVENT:FALSE
SUMMARY:Fidelity National Title Ribbon Cutting
DESCRIPTION:We are excited to invite everyone to welcome Fidelity National Title to Schererville. Please join us at the Ribbon Cutting/ Open house.\n\n \n\nOpen house will be held from 4p-7p\n\nRibbon Cutting will take place at 4:15pm \n\n \n\nWe look forward to seeing everyone and appreciate your support of our Crossroads Chamber members\, and Northwest Indiana's business Community.
X-ALT-DESC;FMTTYPE=text/html:We are excited to invite everyone to welcome Fidelity National Title to Schererville. Please join us at the Ribbon Cutting/ Open house.<br />\n&nbsp\;<br />\nOpen house will be held from 4p-7p<br />\nRibbon Cutting will take place at 4:15pm&nbsp\;<br />\n&nbsp\;<br />\nWe look forward to seeing everyone and appreciate your support of our Crossroads Chamber members\, and Northwest Indiana&rsquo\;s business Community.
LOCATION:7707 US Highway 41 Unit C Schererville\, IN 46375
UID:e.897.6496
SEQUENCE:3
DTSTAMP:20260420T194434Z
URL:https://members.crossroadschamber.org/events/details/fidelity-national-title-ribbon-cutting-6496
END:VEVENT

END:VCALENDAR
