BEGIN:VCALENDAR
VERSION:2.0
PRODID:-//ChamberMaster//Event Calendar 2.0//EN
METHOD:PUBLISH
X-PUBLISHED-TTL:P3D
REFRESH-INTERVAL:P3D
CALSCALE:GREGORIAN
BEGIN:VEVENT
DTSTART:20240919T203000Z
DTEND:20240919T213000Z
X-MICROSOFT-CDO-ALLDAYEVENT:FALSE
SUMMARY:Financial Advisor Affinity Group - *** Financial Advisors Only****
DESCRIPTION:Join our Investment Advisor Affinity Group moderated by Chase Lowden\n\nCome meet with fellow colleagues to share networking ideas\n\n***Financial Advisors*** only please  \n\nLimited to 20 participants only
X-ALT-DESC;FMTTYPE=text/html:Join our Investment Advisor Affinity Group moderated by Chase Lowden<br />\nCome meet with fellow colleagues to share networking ideas<br />\n***Financial Advisors*** only please&nbsp\;&nbsp\;<br />\nLimited to 20 participants only
LOCATION:Crossroads Chamber Board Room 440 W 84th Dr Merrillville\, IN
UID:e.897.6437
SEQUENCE:3
DTSTAMP:20260420T195005Z
URL:https://members.crossroadschamber.org/events/details/financial-advisor-affinity-group-financial-advisors-only-6437
END:VEVENT

END:VCALENDAR
