BEGIN:VCALENDAR
VERSION:2.0
PRODID:-//ChamberMaster//Event Calendar 2.0//EN
METHOD:PUBLISH
X-PUBLISHED-TTL:P3D
REFRESH-INTERVAL:P3D
CALSCALE:GREGORIAN
BEGIN:VEVENT
DTSTART;VALUE=DATE:20240523
DTEND;VALUE=DATE:20240524
TRANSP:TRANSPARENT
X-MICROSOFT-CDO-ALLDAYEVENT:TRUE
SUMMARY:First Sign of Summer - A Legacy Sign Group Open House
DESCRIPTION:Join us at our shop for an open house! We have been at our location for a little while\, but now we're fully settled in and would love to show you around. This will be a great opportunity to see the capabilties of our facility\, what kind of signage solutions we can provide you with\, and of course to network! There will be charcuterie provided by Honey + Sage\, lemon shake-ups\, open bar by Tipsy Gypsy\, door prizes\, Legacy swag\, and a raffle. Can't wait to kick off the summer with our past/present/future clients\, vendors\, and industry partners! Please RSVP for this event!
X-ALT-DESC;FMTTYPE=text/html:<span style="background-color:rgb(255\, 255\, 255)\; color:rgb(5\, 5\, 5)\; font-family:segoe ui historic\,segoe ui\,helvetica\,arial\,sans-serif\; font-size:15px">Join us at our shop for an open house! We have been at our location for a little while\, but now we&#39\;re fully settled in and would love to show you around. This will be a great opportunity to see the capabilties of our facility\, what kind of signage solutions we can provide you with\, and of course to network! There will be charcuterie provided by Honey + Sage\, lemon shake-ups\, open bar by Tipsy Gypsy\, door prizes\, Legacy swag\, and a raffle. Can&#39\;t wait to kick off the summer with our past/present/future clients\, vendors\, and industry partners! Please RSVP for this event!</span>
LOCATION:7933 W US Hwy 6 Westville\, IN 46391 (Legacy Sign Group)
UID:e.897.6266
SEQUENCE:3
DTSTAMP:20260421T060038Z
URL:https://members.crossroadschamber.org/events/details/first-sign-of-summer-a-legacy-sign-group-open-house-6266
END:VEVENT

END:VCALENDAR
