BEGIN:VCALENDAR
VERSION:2.0
PRODID:-//ChamberMaster//Event Calendar 2.0//EN
METHOD:PUBLISH
X-PUBLISHED-TTL:P3D
REFRESH-INTERVAL:P3D
CALSCALE:GREGORIAN
BEGIN:VEVENT
DTSTART:20250505T230000Z
DTEND:20250506T020000Z
X-MICROSOFT-CDO-ALLDAYEVENT:FALSE
SUMMARY:Food Bank Annual "The Soirée"
DESCRIPTION:Join us at The Soir e\, our premier fundraising event to support hunger relief\, and enjoy an evening of live entertainment\, silent auction\, themed raffles\, and tastes from the best local chefs and restaurants.
X-ALT-DESC;FMTTYPE=text/html:<span style="background-color:rgb(255\, 255\, 255)\; color:rgb(104\, 118\, 128)\; font-family:georgia\,serif\; font-size:14px">Join us at&nbsp\;</span><span style="background-color:rgb(255\, 255\, 255)\; color:rgb(104\, 118\, 128)\; font-family:georgia\,serif\; font-size:14px">The Soir&eacute\;e\,&nbsp\;our premier fundraising event to support hunger relief\, and&nbsp\;</span><span style="color:rgb(104\, 118\, 128)\; font-family:georgia\,serif\; font-size:14px">enjoy an evening of&nbsp\;live entertainment\, silent auction\, themed raffles\, and tastes from the best local chefs and&nbsp\;restaurants.</span>
LOCATION:Food Bank of Northwest Indiana 6490 Broadway\, Merrillville 46410
UID:e.897.7072
SEQUENCE:3
DTSTAMP:20260420T065232Z
URL:https://members.crossroadschamber.org/events/details/food-bank-annual-the-soir&#233;e-7072
END:VEVENT

END:VCALENDAR
