BEGIN:VCALENDAR
VERSION:2.0
PRODID:-//ChamberMaster//Event Calendar 2.0//EN
METHOD:PUBLISH
X-PUBLISHED-TTL:P3D
REFRESH-INTERVAL:P3D
CALSCALE:GREGORIAN
BEGIN:VEVENT
DTSTART:20220817T160000Z
DTEND:20220817T183000Z
X-MICROSOFT-CDO-ALLDAYEVENT:FALSE
SUMMARY:Food Truck Wednesday
DESCRIPTION:Join us for lunch in our parking lot!  Manta Latin Kitchen will be serving up yummy lunch items.  Come network with Chamber staff and local businesses!
X-ALT-DESC;FMTTYPE=text/html:Join us for lunch in our parking lot!&nbsp\; Manta Latin Kitchen will be serving up yummy lunch items.&nbsp\; Come network with Chamber staff and local businesses!
LOCATION:Crossroads Regional Chamber of Commerce 440 West 84th Drive Merrillville\, IN 46410
UID:e.897.4528
SEQUENCE:3
DTSTAMP:20260424T180606Z
URL:https://members.crossroadschamber.org/events/details/food-truck-wednesday-4528
END:VEVENT

END:VCALENDAR
