BEGIN:VCALENDAR
VERSION:2.0
PRODID:-//ChamberMaster//Event Calendar 2.0//EN
METHOD:PUBLISH
X-PUBLISHED-TTL:P3D
REFRESH-INTERVAL:P3D
CALSCALE:GREGORIAN
BEGIN:VEVENT
DTSTART:20220831T160000Z
DTEND:20220831T183000Z
X-MICROSOFT-CDO-ALLDAYEVENT:FALSE
SUMMARY:Food Truck Wednesday
DESCRIPTION:Join us for lunch in our parking lot!  Tocayo's Food Truck will be serving delicious tacos!  Come network with Chamber staff and local businesses!
X-ALT-DESC;FMTTYPE=text/html:<span style="color: rgb(51\, 51\, 51)\; font-family: sans-serif\, Arial\, Verdana\, &quot\;Trebuchet MS&quot\;\; font-size: 13px\; background-color: rgb(255\, 255\, 255)\;">Join us for lunch in our parking lot!&nbsp\; Tocayo&#39\;s Food Truck will be serving delicious tacos!&nbsp\; Come network with Chamber staff and local businesses!</span>
LOCATION:Crossroads Regional Chamber of Commerce 440 West 84th Drive Merrillville\, IN 46410
UID:e.897.4536
SEQUENCE:3
DTSTAMP:20260424T193828Z
URL:https://members.crossroadschamber.org/events/details/food-truck-wednesday-4536
END:VEVENT

END:VCALENDAR
