BEGIN:VCALENDAR
VERSION:2.0
PRODID:-//ChamberMaster//Event Calendar 2.0//EN
METHOD:PUBLISH
X-PUBLISHED-TTL:P3D
REFRESH-INTERVAL:P3D
CALSCALE:GREGORIAN
BEGIN:VEVENT
DTSTART:20220928T160000Z
DTEND:20220928T183000Z
X-MICROSOFT-CDO-ALLDAYEVENT:FALSE
SUMMARY:Food Truck Wednesday
DESCRIPTION:Come have lunch with us and our featured food truck Cecil Street!
X-ALT-DESC;FMTTYPE=text/html:Come have lunch with us and our featured food truck Cecil Street!
LOCATION:Crossroads Regional Chamber of Commerce 440 West 84th Drive Merrillville\, IN 46410
UID:e.897.4550
SEQUENCE:3
DTSTAMP:20260424T160947Z
URL:https://members.crossroadschamber.org/events/details/food-truck-wednesday-4550
END:VEVENT

END:VCALENDAR
