BEGIN:VCALENDAR
VERSION:2.0
PRODID:-//ChamberMaster//Event Calendar 2.0//EN
METHOD:PUBLISH
X-PUBLISHED-TTL:P3D
REFRESH-INTERVAL:P3D
CALSCALE:GREGORIAN
BEGIN:VEVENT
DTSTART:20220921T160000Z
DTEND:20220921T183000Z
X-MICROSOFT-CDO-ALLDAYEVENT:FALSE
SUMMARY:Food Truck Wednesday
DESCRIPTION:Join us in the parking lot for lunch!  Battista's Artisan Pizza will be our featured food truck!
X-ALT-DESC;FMTTYPE=text/html:Join us in the parking lot for lunch!&nbsp\; Battista&#39\;s Artisan Pizza will be our featured food truck!
LOCATION:Crossroads Regional Chamber of Commerce 440 West 84th Drive Merrillville\, IN 46410
UID:e.897.4556
SEQUENCE:3
DTSTAMP:20260424T161011Z
URL:https://members.crossroadschamber.org/events/details/food-truck-wednesday-4556
END:VEVENT

END:VCALENDAR
