BEGIN:VCALENDAR
VERSION:2.0
PRODID:-//ChamberMaster//Event Calendar 2.0//EN
METHOD:PUBLISH
X-PUBLISHED-TTL:P3D
REFRESH-INTERVAL:P3D
CALSCALE:GREGORIAN
BEGIN:VEVENT
DTSTART:20221005T160000Z
DTEND:20221005T183000Z
X-MICROSOFT-CDO-ALLDAYEVENT:FALSE
SUMMARY:Food Truck Wednesday
DESCRIPTION:Las Mamacitas Food Truck will be here today.  Come have lunch\, network and chat with Chamber staff!
X-ALT-DESC;FMTTYPE=text/html:Las Mamacitas Food Truck will be here today.&nbsp\; Come have lunch\, network and chat with Chamber staff!
LOCATION:Crossroads Regional Chamber of Commerce 440 West 84th Drive Merrillville\, IN 4410
UID:e.897.4558
SEQUENCE:3
DTSTAMP:20260424T160932Z
URL:https://members.crossroadschamber.org/events/details/food-truck-wednesday-4558
END:VEVENT

END:VCALENDAR
