BEGIN:VCALENDAR
VERSION:2.0
PRODID:-//ChamberMaster//Event Calendar 2.0//EN
METHOD:PUBLISH
X-PUBLISHED-TTL:P3D
REFRESH-INTERVAL:P3D
CALSCALE:GREGORIAN
BEGIN:VEVENT
DTSTART:20221019T160000Z
DTEND:20221019T183000Z
X-MICROSOFT-CDO-ALLDAYEVENT:FALSE
SUMMARY:Food Truck Wednesday
DESCRIPTION:Get Jerked Chicken will be our featured truck.  Come have lunch with us and network.
X-ALT-DESC;FMTTYPE=text/html:Get Jerked Chicken will be our featured truck.&nbsp\; Come have lunch with us and network.
LOCATION:Crossroads Regional Chamber of Commerce 440 West 84th Drive Merrillville\, IN 46410
UID:e.897.4564
SEQUENCE:3
DTSTAMP:20260424T162526Z
URL:https://members.crossroadschamber.org/events/details/food-truck-wednesday-4564
END:VEVENT

END:VCALENDAR
