BEGIN:VCALENDAR
VERSION:2.0
PRODID:-//ChamberMaster//Event Calendar 2.0//EN
METHOD:PUBLISH
X-PUBLISHED-TTL:P3D
REFRESH-INTERVAL:P3D
CALSCALE:GREGORIAN
BEGIN:VEVENT
DTSTART:20221026T160000Z
DTEND:20221026T183000Z
X-MICROSOFT-CDO-ALLDAYEVENT:FALSE
SUMMARY:Food Truck Wednesday
DESCRIPTION:Tocayos is back!  Come have a great lunch and network!
X-ALT-DESC;FMTTYPE=text/html:Tocayos is back!&nbsp\; Come have a great lunch and network!
LOCATION:Crossroads Regional Chamber of Commerce 440 West 84th Drive Merrillville\, IN 46410
UID:e.897.4565
SEQUENCE:3
DTSTAMP:20260424T161013Z
URL:https://members.crossroadschamber.org/events/details/food-truck-wednesday-4565
END:VEVENT

END:VCALENDAR
