BEGIN:VCALENDAR
VERSION:2.0
PRODID:-//ChamberMaster//Event Calendar 2.0//EN
METHOD:PUBLISH
X-PUBLISHED-TTL:P3D
REFRESH-INTERVAL:P3D
CALSCALE:GREGORIAN
BEGIN:VEVENT
DTSTART:20250618T163000Z
DTEND:20250618T180000Z
X-MICROSOFT-CDO-ALLDAYEVENT:FALSE
SUMMARY:Food Truck Wednesday featuring Golden Dome Pizza
DESCRIPTION:Join Us for Food Truck Wednesday at the Crossroads Chamber!\n\n\n\nLooking for a great way to enjoy lunch and connect with fellow business professionals? Crossroads Chamber invites you to Food Truck Wednesday\, happening this Wednesday from 11:30 AM to 1:00 PM in our parking lot!\n\n\n\n\n\nThis casual lunchtime event is the perfect opportunity to:\n\n	Grab a delicious lunch from Golden Dome Pizza \n	Network with Chamber members\, both longtime participants and new faces\n	Enjoy the outdoors and take a well-deserved midweek break\n\n\n\nWhether you're a regular attendee or it's your first Chamber event\, we'd love to see you there!\n\n\n\nCome for the food\, stay for the connections. We look forward to seeing you!
X-ALT-DESC;FMTTYPE=text/html:<span style="font-size:18px\;"><strong>Join Us for Food Truck Wednesday at the Crossroads Chamber!</strong></span><br />\n<br />\n<span style="font-size:18px\;">Looking for a great way to enjoy lunch and connect with fellow business professionals? Crossroads Chamber invites you to <strong>Food Truck Wednesday</strong>\, happening <strong>this Wednesday from 11:30 AM to 1:00 PM</strong> in our parking lot!</span><br />\n<br />\n<br />\n<span style="font-size:18px\;">This casual lunchtime event is the perfect opportunity to:</span>\n<ul>\n	<li><span style="font-size:18px\;"><strong>Grab a delicious lunch</strong> from Golden Dome Pizza&nbsp\;</span></li>\n	<li><span style="font-size:18px\;"><strong>Network</strong> with Chamber members\, both longtime participants and new faces</span></li>\n	<li><span style="font-size:18px\;"><strong>Enjoy the outdoors</strong> and take a well-deserved midweek break</span></li>\n</ul>\n<br />\n<span style="font-size:18px\;">Whether you&#39\;re a regular attendee or it&rsquo\;s your first Chamber event\, we&rsquo\;d love to see you there!</span><br />\n<br />\n<span style="font-size:18px\;">Come for the food\, stay for the connections. We look forward to seeing you!</span>
LOCATION:Crossroads Chamber 440 W. 84th Dr. Merrillville\, 46410
UID:e.897.7094
SEQUENCE:3
DTSTAMP:20260420T050416Z
URL:https://members.crossroadschamber.org/events/details/food-truck-wednesday-featuring-golden-dome-pizza-7094
END:VEVENT

END:VCALENDAR
