BEGIN:VCALENDAR
VERSION:2.0
PRODID:-//ChamberMaster//Event Calendar 2.0//EN
METHOD:PUBLISH
X-PUBLISHED-TTL:P3D
REFRESH-INTERVAL:P3D
CALSCALE:GREGORIAN
BEGIN:VEVENT
DTSTART:20250716T163000Z
DTEND:20250716T180000Z
X-MICROSOFT-CDO-ALLDAYEVENT:FALSE
SUMMARY:Food Truck Wednesday featuring Tocayos
DESCRIPTION:Join Us for Food Truck Wednesday at the Crossroads Chamber!\n\n\n\nLooking for a great way to enjoy lunch and connect with fellow business professionals? Crossroads Chamber invites you to Food Truck Wednesday\, happening this Wednesday from 11:30 AM to 1:00 PM in our parking lot!\n\n\n\n\n\nThis casual lunchtime event is the perfect opportunity to:\n\n	Grab a delicious lunch from Tocayos Express \n	Network with Chamber members\, both longtime participants and new faces\n	Enjoy the outdoors and take a well-deserved midweek break\n\n\n\nWhether you're a regular attendee or it's your first Chamber event\, we'd love to see you there!\n\n\n\nCome for the food\, stay for the connections. We look forward to seeing you!
X-ALT-DESC;FMTTYPE=text/html:<strong>Join Us for Food Truck Wednesday at the Crossroads Chamber!</strong><br />\n<br />\nLooking for a great way to enjoy lunch and connect with fellow business professionals? Crossroads Chamber invites you to&nbsp\;<strong>Food Truck Wednesday</strong>\, happening&nbsp\;<strong>this Wednesday from 11:30 AM to 1:00 PM</strong>&nbsp\;in our parking lot!<br />\n<br />\n<br />\nThis casual lunchtime event is the perfect opportunity to:\n<ul>\n	<li><strong>Grab a delicious lunch</strong>&nbsp\;from&nbsp\;Tocayos Express&nbsp\;</li>\n	<li><strong>Network</strong>&nbsp\;with Chamber members\, both longtime participants and new faces</li>\n	<li><strong>Enjoy the outdoors</strong>&nbsp\;and take a well-deserved midweek break</li>\n</ul>\n<br />\nWhether you&#39\;re a regular attendee or it&rsquo\;s your first Chamber event\, we&rsquo\;d love to see you there!<br />\n<br />\nCome for the food\, stay for the connections. We look forward to seeing you!
LOCATION:Crossroads Parking Lot 440 W. 84th Dr. Merrillville\, IN 46410
UID:e.897.7095
SEQUENCE:3
DTSTAMP:20260420T031720Z
URL:https://members.crossroadschamber.org/events/details/food-truck-wednesday-featuring-tocayos-7095
END:VEVENT

END:VCALENDAR
