BEGIN:VCALENDAR
VERSION:2.0
PRODID:-//ChamberMaster//Event Calendar 2.0//EN
METHOD:PUBLISH
X-PUBLISHED-TTL:P3D
REFRESH-INTERVAL:P3D
CALSCALE:GREGORIAN
BEGIN:VEVENT
DTSTART:20240710T160000Z
DTEND:20240710T180000Z
X-MICROSOFT-CDO-ALLDAYEVENT:FALSE
SUMMARY:Food Truck Wednesdays
DESCRIPTION:Antojitos Los Ramos will be in our parking lot for all to come and enjoy lunch. \n\n\n\nCome enjoy your lunch break at the Crossroads Chamber!
X-ALT-DESC;FMTTYPE=text/html:<br />\n<span style="font-size:20px\;">Antojitos Los Ramos will be in our parking lot for all to come and enjoy lunch.&nbsp\;<br />\n<br />\nCome enjoy your lunch break at the Crossroads Chamber!&nbsp\;</span>
LOCATION:440 W. 84th Dr. Merrillville\, IN 46410
UID:e.897.6283
SEQUENCE:3
DTSTAMP:20260421T041129Z
URL:https://members.crossroadschamber.org/events/details/food-truck-wednesdays-07-10-2024-6283
END:VEVENT

END:VCALENDAR
