BEGIN:VCALENDAR
VERSION:2.0
PRODID:-//ChamberMaster//Event Calendar 2.0//EN
METHOD:PUBLISH
X-PUBLISHED-TTL:P3D
REFRESH-INTERVAL:P3D
CALSCALE:GREGORIAN
BEGIN:VEVENT
DTSTART:20240807T160000Z
DTEND:20240807T180000Z
X-MICROSOFT-CDO-ALLDAYEVENT:FALSE
SUMMARY:Food Truck Wednesdays
DESCRIPTION:Las Mamacitas will be in our parking lot for all to come and enjoy lunch. \n\n\n\nCome enjoy your lunch break at the Crossroads Chamber!
X-ALT-DESC;FMTTYPE=text/html:<br />\n<span style="font-family:aptos\,sans-serif\;"><span style="font-size:12.0pt\;"><span style="font-size:20px\;">Las Mamacitas</span>&nbsp\;</span></span><span style="font-size:20px\;">will be in our parking lot for all to come and enjoy lunch.&nbsp\;<br />\n<br />\nCome enjoy your lunch break at the Crossroads Chamber!&nbsp\;</span>
LOCATION:440 W. 84th Dr. Merrillville\, IN 46410
UID:e.897.6287
SEQUENCE:3
DTSTAMP:20260421T022616Z
URL:https://members.crossroadschamber.org/events/details/food-truck-wednesdays-08-07-2024-6287
END:VEVENT

END:VCALENDAR
