BEGIN:VCALENDAR
VERSION:2.0
PRODID:-//ChamberMaster//Event Calendar 2.0//EN
METHOD:PUBLISH
X-PUBLISHED-TTL:P3D
REFRESH-INTERVAL:P3D
CALSCALE:GREGORIAN
BEGIN:VEVENT
DTSTART:20240610T143000Z
DTEND:20240611T000000Z
X-MICROSOFT-CDO-ALLDAYEVENT:FALSE
SUMMARY:"FORE! Our Neighbors in Need Golfing Experience
DESCRIPTION:Please mark your calendar to join us for one of the top golfing events of the season. Proceeds aid struggling individuals and families who are residents of Northwest Indiana. Feel free to contact me about sponsorship opportunities.\n\nMore information to come...
X-ALT-DESC;FMTTYPE=text/html:Please mark your calendar to join us for one of the top golfing events of the season. Proceeds aid struggling individuals and families who are residents of Northwest Indiana. Feel free to contact me about sponsorship opportunities.<br />\nMore information to come...
LOCATION:Innsbrook Country Club\, Merrillville\, Indiana
UID:e.897.6084
SEQUENCE:3
DTSTAMP:20260421T054133Z
URL:https://members.crossroadschamber.org/events/details/fore-our-neighbors-in-need-golfing-experience-6084
END:VEVENT

END:VCALENDAR
