BEGIN:VCALENDAR
VERSION:2.0
PRODID:-//ChamberMaster//Event Calendar 2.0//EN
METHOD:PUBLISH
X-PUBLISHED-TTL:P3D
REFRESH-INTERVAL:P3D
CALSCALE:GREGORIAN
BEGIN:VEVENT
DTSTART:20250410T220000Z
DTEND:20250411T000000Z
X-MICROSOFT-CDO-ALLDAYEVENT:FALSE
SUMMARY:Geminus A Night of Networking
DESCRIPTION:Join us for a Night of Networking. You will have the opportunity to present a 30-second pitch to 100+ attendees. Free event attendance for all Indiana professionals! Enjoy complimentary hors d'oeuvres provided by Asparagus Restaurant. Cash bar will be open.\n\n\n\nRSVP at bit.ly/GeminusNetworking2025 \n\n\n\nArrive before 5:30 pm to be entered to win VISA gift cards and gift certificates to the best restaurants in Northwest Indiana! Grand prize will be two VIP tickets to our Golden Jubilee Gala on May 23\, 2025.
X-ALT-DESC;FMTTYPE=text/html:Join us for a Night of Networking. You will have the opportunity to present a 30-second pitch to 100+ attendees. Free event attendance for all Indiana professionals! Enjoy complimentary hors d&#39\;oeuvres provided by Asparagus Restaurant. Cash bar will be open.<br />\n<br />\nRSVP at <u>bit.ly/GeminusNetworking2025</u>&nbsp\;<br />\n<br />\nArrive before 5:30 pm to be entered to win VISA gift cards and gift certificates to the best restaurants in Northwest Indiana! Grand prize will be two VIP tickets to our Golden Jubilee Gala on May 23\, 2025.&nbsp\;&nbsp\;
LOCATION:Avalon Manor 3550 E. Lincoln Highway Merrillville\, IN 46410
UID:e.897.7065
SEQUENCE:3
DTSTAMP:20260420T084019Z
URL:https://members.crossroadschamber.org/events/details/geminus-a-night-of-networking-7065
END:VEVENT

END:VCALENDAR
