BEGIN:VCALENDAR
VERSION:2.0
PRODID:-//ChamberMaster//Event Calendar 2.0//EN
METHOD:PUBLISH
X-PUBLISHED-TTL:P3D
REFRESH-INTERVAL:P3D
CALSCALE:GREGORIAN
BEGIN:VEVENT
DTSTART:20230629T213000Z
DTEND:20230629T230000Z
X-MICROSOFT-CDO-ALLDAYEVENT:FALSE
SUMMARY:General Insurance Services Ribbon Cutting/After Hours Event
DESCRIPTION:Ribbon Cutting/After Hours Event
X-ALT-DESC;FMTTYPE=text/html:Ribbon Cutting/After Hours Event&nbsp\;
LOCATION:1451 S. Lake Park Ave Hobart\, IN 46342
UID:e.897.5024
SEQUENCE:3
DTSTAMP:20260424T002254Z
URL:https://members.crossroadschamber.org/events/details/general-insurance-services-ribbon-cutting-after-hours-event-5024
END:VEVENT

END:VCALENDAR
