BEGIN:VCALENDAR
VERSION:2.0
PRODID:-//ChamberMaster//Event Calendar 2.0//EN
METHOD:PUBLISH
X-PUBLISHED-TTL:P3D
REFRESH-INTERVAL:P3D
CALSCALE:GREGORIAN
BEGIN:VEVENT
DTSTART:20210518T210000Z
DTEND:20210519T000000Z
X-MICROSOFT-CDO-ALLDAYEVENT:FALSE
SUMMARY:Get Connected 2020 Business Expo Vendor Registration
DESCRIPTION:
X-ALT-DESC;FMTTYPE=text/html:
LOCATION:Gary Railcats Stadium
UID:e.897.4277
SEQUENCE:3
DTSTAMP:20260425T204842Z
URL:https://members.crossroadschamber.org/events/details/get-connected-2020-business-expo-vendor-registration-4277
END:VEVENT

END:VCALENDAR
