BEGIN:VCALENDAR
VERSION:2.0
PRODID:-//ChamberMaster//Event Calendar 2.0//EN
METHOD:PUBLISH
X-PUBLISHED-TTL:P3D
REFRESH-INTERVAL:P3D
CALSCALE:GREGORIAN
BEGIN:VEVENT
DTSTART:20250523T230000Z
DTEND:20250524T020000Z
X-MICROSOFT-CDO-ALLDAYEVENT:FALSE
SUMMARY:Golden Jubilee—Louisiana Street Style Gala
DESCRIPTION:The event\, on Friday\, May 23\, 2025\, at 6 pm at Avalon Manor Banquet Center in Merrillville\, IN offers a unique VIP experience with early entry at 5 pm\, granting access to live music\, exclusive appetizers with wine pairings curated by Asparagus   Asian Fusion Restaurant and more. All event guests will enjoy festivities\, including a silent auction\, meet-and-greet with passed hors d'oeuvres\, dinner with a toast and live music by the New Orleans Brass Band.\n\n\n\nRegional Care Group\, Indiana's largest network of community-based health care and social services\, is committed to enhancing the well-being and resilience of individuals and families across Northwest Indiana. Through Regional Health Systems\, Geminus and Lake Park Residential Care\, the network provides integrated\, accessible care from early childhood through all of life's changes
X-ALT-DESC;FMTTYPE=text/html:The event\, on Friday\, May 23\, 2025\, at 6 pm at Avalon Manor Banquet Center in Merrillville\, IN offers a unique VIP experience with early entry at 5 pm\, granting access to live music\, exclusive appetizers with wine pairings curated by Asparagus &ndash\; Asian Fusion Restaurant and more. All event guests will enjoy festivities\, including a silent auction\, meet-and-greet with passed hors d&#39\;oeuvres\, dinner with a toast and live music by the New Orleans Brass Band.<br />\n<br />\nRegional Care Group\, Indiana&rsquo\;s largest network of community-based health care and social services\, is committed to enhancing the well-being and resilience of individuals and families across Northwest Indiana. Through Regional Health Systems\, Geminus and Lake Park Residential Care\, the network provides integrated\, accessible care from early childhood through all of life&rsquo\;s changes
LOCATION:Avalon Manor 3550 E. Lincoln Highway Merrillville\, IN 46410
UID:e.897.7063
SEQUENCE:3
DTSTAMP:20260420T065429Z
URL:https://members.crossroadschamber.org/events/details/golden-jubilee-louisiana-street-style-gala-7063
END:VEVENT

END:VCALENDAR
