BEGIN:VCALENDAR
VERSION:2.0
PRODID:-//ChamberMaster//Event Calendar 2.0//EN
METHOD:PUBLISH
X-PUBLISHED-TTL:P3D
REFRESH-INTERVAL:P3D
CALSCALE:GREGORIAN
BEGIN:VEVENT
DTSTART:20250717T143000Z
DTEND:20250717T153000Z
X-MICROSOFT-CDO-ALLDAYEVENT:FALSE
SUMMARY:Golf Outing Committee Meeting
DESCRIPTION:Golf Outing Committee Meeting
X-ALT-DESC;FMTTYPE=text/html:Golf Outing Committee Meeting
LOCATION:Crossroads Chamber Boardroom 440 W 84th Dr Merrillville\, IN
UID:e.897.6511
SEQUENCE:3
DTSTAMP:20260420T031532Z
URL:https://members.crossroadschamber.org/events/details/golf-outing-committee-meeting-07-17-2025-6511
END:VEVENT

END:VCALENDAR
