BEGIN:VCALENDAR
VERSION:2.0
PRODID:-//ChamberMaster//Event Calendar 2.0//EN
METHOD:PUBLISH
X-PUBLISHED-TTL:P3D
REFRESH-INTERVAL:P3D
CALSCALE:GREGORIAN
BEGIN:VEVENT
DTSTART:20250814T143000Z
DTEND:20250814T153000Z
X-MICROSOFT-CDO-ALLDAYEVENT:FALSE
SUMMARY:Golf Outing Committee Meeting
DESCRIPTION:Golf Outing Committee Meeting
X-ALT-DESC;FMTTYPE=text/html:Golf Outing Committee Meeting
LOCATION:Crossroads Chamber Boardroom 440 W 84th Dr Merrillville\, IN
UID:e.897.6512
SEQUENCE:3
DTSTAMP:20260420T011821Z
URL:https://members.crossroadschamber.org/events/details/golf-outing-committee-meeting-08-21-2025-6512
END:VEVENT

END:VCALENDAR
